BEGIN:VCALENDAR
VERSION:2.0
PRODID:-//Ahrenviölfeld 2.0 - ECPv6.15.18//NONSGML v1.0//EN
CALSCALE:GREGORIAN
METHOD:PUBLISH
X-WR-CALNAME:Ahrenviölfeld 2.0
X-ORIGINAL-URL:https://ahrenvioelfeld.de/wordpress
X-WR-CALDESC:Veranstaltungen für Ahrenviölfeld 2.0
REFRESH-INTERVAL;VALUE=DURATION:PT1H
X-Robots-Tag:noindex
X-PUBLISHED-TTL:PT1H
BEGIN:VTIMEZONE
TZID:Europe/Berlin
BEGIN:DAYLIGHT
TZOFFSETFROM:+0100
TZOFFSETTO:+0200
TZNAME:CEST
DTSTART:20250330T010000
END:DAYLIGHT
BEGIN:STANDARD
TZOFFSETFROM:+0200
TZOFFSETTO:+0100
TZNAME:CET
DTSTART:20251026T010000
END:STANDARD
BEGIN:DAYLIGHT
TZOFFSETFROM:+0100
TZOFFSETTO:+0200
TZNAME:CEST
DTSTART:20260329T010000
END:DAYLIGHT
BEGIN:STANDARD
TZOFFSETFROM:+0200
TZOFFSETTO:+0100
TZNAME:CET
DTSTART:20261025T010000
END:STANDARD
BEGIN:DAYLIGHT
TZOFFSETFROM:+0100
TZOFFSETTO:+0200
TZNAME:CEST
DTSTART:20270328T010000
END:DAYLIGHT
BEGIN:STANDARD
TZOFFSETFROM:+0200
TZOFFSETTO:+0100
TZNAME:CET
DTSTART:20271031T010000
END:STANDARD
END:VTIMEZONE
BEGIN:VEVENT
DTSTART;TZID=Europe/Berlin:20260523T100000
DTEND;TZID=Europe/Berlin:20260523T100000
DTSTAMP:20260422T133840
CREATED:20241214T133603Z
LAST-MODIFIED:20251217T150923Z
UID:603-1779530400-1779530400@ahrenvioelfeld.de
SUMMARY:Kindersafari
DESCRIPTION:
URL:https://ahrenvioelfeld.de/wordpress/event/kinderausflug/
LOCATION:Dorfgemeinschaftshaus\, Schulweg 2\, Ahrenviölfeld\, 25885
ATTACH;FMTTYPE=image/jpeg:https://ahrenvioelfeld.de/wordpress/wp-content/uploads/2024/12/Kinderfest_01.jpg
END:VEVENT
BEGIN:VEVENT
DTSTART;TZID=Europe/Berlin:20260606T140000
DTEND;TZID=Europe/Berlin:20260606T140000
DTSTAMP:20260422T133840
CREATED:20241214T124814Z
LAST-MODIFIED:20251217T144738Z
UID:598-1780754400-1780754400@ahrenvioelfeld.de
SUMMARY:Spiel- und Unterhaltungsnachmittag
DESCRIPTION:
URL:https://ahrenvioelfeld.de/wordpress/event/spiel-und-unterhaltungsnachmittag/
LOCATION:Dorfgemeinschaftshaus\, Schulweg 2\, Ahrenviölfeld\, 25885
ATTACH;FMTTYPE=image/jpeg:https://ahrenvioelfeld.de/wordpress/wp-content/uploads/2024/12/kinderfest.jpg
END:VEVENT
BEGIN:VEVENT
DTSTART;TZID=Europe/Berlin:20260615T193000
DTEND;TZID=Europe/Berlin:20260615T193000
DTSTAMP:20260422T133840
CREATED:20241214T134159Z
LAST-MODIFIED:20251217T144843Z
UID:611-1781551800-1781551800@ahrenvioelfeld.de
SUMMARY:Gemeinderatssitzung
DESCRIPTION:
URL:https://ahrenvioelfeld.de/wordpress/event/gemeinderatssitzung-3/
LOCATION:Dorfgemeinschaftshaus\, Schulweg 2\, Ahrenviölfeld\, 25885
ATTACH;FMTTYPE=image/jpeg:https://ahrenvioelfeld.de/wordpress/wp-content/uploads/2024/12/dorfgemeinschaftshaus.jpg
END:VEVENT
BEGIN:VEVENT
DTSTART;TZID=Europe/Berlin:20260625T150000
DTEND;TZID=Europe/Berlin:20260625T150000
DTSTAMP:20260422T133840
CREATED:20251217T145042Z
LAST-MODIFIED:20251217T151128Z
UID:991-1782399600-1782399600@ahrenvioelfeld.de
SUMMARY:Spiel- und Klönnachmittag
DESCRIPTION:
URL:https://ahrenvioelfeld.de/wordpress/event/spiel-und-kloennachmittag/
LOCATION:Dorfgemeinschaftshaus\, Schulweg 2\, Ahrenviölfeld\, 25885
ATTACH;FMTTYPE=image/jpeg:https://ahrenvioelfeld.de/wordpress/wp-content/uploads/2024/12/sozialverband.jpg
END:VEVENT
BEGIN:VEVENT
DTSTART;TZID=Europe/Berlin:20260827T150000
DTEND;TZID=Europe/Berlin:20260827T150000
DTSTAMP:20260422T133840
CREATED:20251217T145151Z
LAST-MODIFIED:20251217T151205Z
UID:993-1787842800-1787842800@ahrenvioelfeld.de
SUMMARY:Spiel- und Klönnachmittag
DESCRIPTION:
URL:https://ahrenvioelfeld.de/wordpress/event/spiel-und-kloennachmittag-11/
LOCATION:Dorfgemeinschaftshaus\, Schulweg 2\, Ahrenviölfeld\, 25885
ATTACH;FMTTYPE=image/jpeg:https://ahrenvioelfeld.de/wordpress/wp-content/uploads/2024/12/sozialverband.jpg
END:VEVENT
BEGIN:VEVENT
DTSTART;TZID=Europe/Berlin:20260829T130000
DTEND;TZID=Europe/Berlin:20260829T130000
DTSTAMP:20260422T133840
CREATED:20241214T134056Z
LAST-MODIFIED:20251217T145243Z
UID:608-1788008400-1788008400@ahrenvioelfeld.de
SUMMARY:Gemeindefahrt
DESCRIPTION:
URL:https://ahrenvioelfeld.de/wordpress/event/seniorenfahrt/
LOCATION:Dorfgemeinschaftshaus\, Schulweg 2\, Ahrenviölfeld\, 25885
ATTACH;FMTTYPE=image/png:https://ahrenvioelfeld.de/wordpress/wp-content/uploads/2024/12/seniorenfahrt.png
END:VEVENT
BEGIN:VEVENT
DTSTART;TZID=Europe/Berlin:20260914T193000
DTEND;TZID=Europe/Berlin:20260914T193000
DTSTAMP:20260422T133840
CREATED:20241214T124339Z
LAST-MODIFIED:20251217T145341Z
UID:594-1789414200-1789414200@ahrenvioelfeld.de
SUMMARY:Gemeinderatssitzung
DESCRIPTION:
URL:https://ahrenvioelfeld.de/wordpress/event/gemeinderatssitzung-2/
LOCATION:Dorfgemeinschaftshaus\, Schulweg 2\, Ahrenviölfeld\, 25885
ATTACH;FMTTYPE=image/jpeg:https://ahrenvioelfeld.de/wordpress/wp-content/uploads/2024/12/dorfgemeinschaftshaus.jpg
END:VEVENT
BEGIN:VEVENT
DTSTART;TZID=Europe/Berlin:20261017T193000
DTEND;TZID=Europe/Berlin:20261017T193000
DTSTAMP:20260422T133840
CREATED:20241214T134438Z
LAST-MODIFIED:20251217T145422Z
UID:615-1792265400-1792265400@ahrenvioelfeld.de
SUMMARY:Erntedankfest
DESCRIPTION:
URL:https://ahrenvioelfeld.de/wordpress/event/entedankfest/
LOCATION:Dorfgemeinschaftshaus\, Schulweg 2\, Ahrenviölfeld\, 25885
ATTACH;FMTTYPE=image/jpeg:https://ahrenvioelfeld.de/wordpress/wp-content/uploads/2024/12/IMG-20191030-WA0005.jpg
END:VEVENT
BEGIN:VEVENT
DTSTART;TZID=Europe/Berlin:20261022T193000
DTEND;TZID=Europe/Berlin:20261022T193000
DTSTAMP:20260422T133840
CREATED:20241212T130609Z
LAST-MODIFIED:20251217T145525Z
UID:529-1792697400-1792697400@ahrenvioelfeld.de
SUMMARY:Bruusturnier
DESCRIPTION:
URL:https://ahrenvioelfeld.de/wordpress/event/bruusturnier-im-dorfgemeinschaftshaus/
LOCATION:Dorfgemeinschaftshaus\, Schulweg 2\, Ahrenviölfeld\, 25885
ATTACH;FMTTYPE=image/jpeg:https://ahrenvioelfeld.de/wordpress/wp-content/uploads/2024/12/bruus_01.jpg
END:VEVENT
BEGIN:VEVENT
DTSTART;TZID=Europe/Berlin:20261029T150000
DTEND;TZID=Europe/Berlin:20261029T150000
DTSTAMP:20260422T133840
CREATED:20251217T145647Z
LAST-MODIFIED:20251217T151440Z
UID:999-1793286000-1793286000@ahrenvioelfeld.de
SUMMARY:Spiel- und Klönnachmittag
DESCRIPTION:
URL:https://ahrenvioelfeld.de/wordpress/event/spiel-und-kloennachmittag-12/
LOCATION:Dorfgemeinschaftshaus\, Schulweg 2\, Ahrenviölfeld\, 25885
ATTACH;FMTTYPE=image/jpeg:https://ahrenvioelfeld.de/wordpress/wp-content/uploads/2024/12/sozialverband.jpg
END:VEVENT
BEGIN:VEVENT
DTSTART;TZID=Europe/Berlin:20261106T183000
DTEND;TZID=Europe/Berlin:20261106T183000
DTSTAMP:20260422T133840
CREATED:20241214T135442Z
LAST-MODIFIED:20251217T145723Z
UID:623-1793989800-1793989800@ahrenvioelfeld.de
SUMMARY:Laterne laufen
DESCRIPTION:
URL:https://ahrenvioelfeld.de/wordpress/event/laterne-laufen/
LOCATION:Dorfgemeinschaftshaus\, Schulweg 2\, Ahrenviölfeld\, 25885
ATTACH;FMTTYPE=image/jpeg:https://ahrenvioelfeld.de/wordpress/wp-content/uploads/2024/12/laterne.jpg
END:VEVENT
BEGIN:VEVENT
DTSTART;TZID=Europe/Berlin:20261112T150000
DTEND;TZID=Europe/Berlin:20261112T150000
DTSTAMP:20260422T133840
CREATED:20241214T124942Z
LAST-MODIFIED:20251217T143651Z
UID:601-1794495600-1794495600@ahrenvioelfeld.de
SUMMARY:Spiel- und Klönnachmittag
DESCRIPTION:
URL:https://ahrenvioelfeld.de/wordpress/event/spiel-und-kloennachmittag-6/
LOCATION:Dorfgemeinschaftshaus\, Schulweg 2\, Ahrenviölfeld\, 25885
ATTACH;FMTTYPE=image/jpeg:https://ahrenvioelfeld.de/wordpress/wp-content/uploads/2024/12/brettspiel.jpg
END:VEVENT
BEGIN:VEVENT
DTSTART;TZID=Europe/Berlin:20261114T090000
DTEND;TZID=Europe/Berlin:20261114T113000
DTSTAMP:20260422T133840
CREATED:20241214T140002Z
LAST-MODIFIED:20251217T145834Z
UID:626-1794646800-1794655800@ahrenvioelfeld.de
SUMMARY:Blätter harken und Reinigungsarbeiten
DESCRIPTION:
URL:https://ahrenvioelfeld.de/wordpress/event/blaetter-harken-und-reinigungsarbeiten/
LOCATION:Ententeich\, Ahrenviölfeld\, 25885
ATTACH;FMTTYPE=image/jpeg:https://ahrenvioelfeld.de/wordpress/wp-content/uploads/2024/12/DSC01185.jpg
END:VEVENT
BEGIN:VEVENT
DTSTART;TZID=Europe/Berlin:20261115T113000
DTEND;TZID=Europe/Berlin:20261115T113000
DTSTAMP:20260422T133840
CREATED:20241214T140251Z
LAST-MODIFIED:20251217T145906Z
UID:628-1794742200-1794742200@ahrenvioelfeld.de
SUMMARY:Volkstrauertag mit Kranzniederlegung
DESCRIPTION:
URL:https://ahrenvioelfeld.de/wordpress/event/volkstrauertag-mit-kranzniederlegung/
LOCATION:Felsenburg
ATTACH;FMTTYPE=image/jpeg:https://ahrenvioelfeld.de/wordpress/wp-content/uploads/2024/12/Ehrenmal.jpg
END:VEVENT
BEGIN:VEVENT
DTSTART;TZID=Europe/Berlin:20261130T193000
DTEND;TZID=Europe/Berlin:20261130T193000
DTSTAMP:20260422T133840
CREATED:20241214T122212Z
LAST-MODIFIED:20251217T145957Z
UID:571-1796067000-1796067000@ahrenvioelfeld.de
SUMMARY:Gemeinderatssitzung
DESCRIPTION:
URL:https://ahrenvioelfeld.de/wordpress/event/gemeinderatssitzung/
LOCATION:Dorfgemeinschaftshaus\, Schulweg 2\, Ahrenviölfeld\, 25885
ATTACH;FMTTYPE=image/jpeg:https://ahrenvioelfeld.de/wordpress/wp-content/uploads/2024/12/dorfgemeinschaftshaus.jpg
END:VEVENT
BEGIN:VEVENT
DTSTART;TZID=Europe/Berlin:20261203T150000
DTEND;TZID=Europe/Berlin:20261203T150000
DTSTAMP:20260422T133840
CREATED:20241214T123751Z
LAST-MODIFIED:20251217T143734Z
UID:587-1796310000-1796310000@ahrenvioelfeld.de
SUMMARY:Spiel- und Klönnachmittag
DESCRIPTION:
URL:https://ahrenvioelfeld.de/wordpress/event/spiel-und-kloennachmittag-5/
LOCATION:Dorfgemeinschaftshaus\, Schulweg 2\, Ahrenviölfeld\, 25885
ATTACH;FMTTYPE=image/jpeg:https://ahrenvioelfeld.de/wordpress/wp-content/uploads/2024/12/brettspiel.jpg
END:VEVENT
BEGIN:VEVENT
DTSTART;TZID=Europe/Berlin:20261220T143000
DTEND;TZID=Europe/Berlin:20261220T143000
DTSTAMP:20260422T133840
CREATED:20241214T140742Z
LAST-MODIFIED:20251217T150042Z
UID:639-1797777000-1797777000@ahrenvioelfeld.de
SUMMARY:Weihnachtsmarkt
DESCRIPTION:
URL:https://ahrenvioelfeld.de/wordpress/event/weihnachtsmarkt/
LOCATION:Dorfgemeinschaftshaus\, Schulweg 2\, Ahrenviölfeld\, 25885
ATTACH;FMTTYPE=image/jpeg:https://ahrenvioelfeld.de/wordpress/wp-content/uploads/2024/12/weihnachtsmarkt.jpg
END:VEVENT
END:VCALENDAR